BEGIN:VCALENDAR
VERSION:2.0
PRODID:-//NCCARE360 - ECPv6.15.17.1//NONSGML v1.0//EN
CALSCALE:GREGORIAN
METHOD:PUBLISH
X-WR-CALNAME:NCCARE360
X-ORIGINAL-URL:https://nccare360.org
X-WR-CALDESC:Events for NCCARE360
REFRESH-INTERVAL;VALUE=DURATION:PT1H
X-Robots-Tag:noindex
X-PUBLISHED-TTL:PT1H
BEGIN:VTIMEZONE
TZID:UTC
BEGIN:STANDARD
TZOFFSETFROM:+0000
TZOFFSETTO:+0000
TZNAME:UTC
DTSTART:20230101T000000
END:STANDARD
END:VTIMEZONE
BEGIN:VEVENT
DTSTART;TZID=UTC:20260220T120000
DTEND;TZID=UTC:20260220T130000
DTSTAMP:20260422T194627
CREATED:20251217T205511Z
LAST-MODIFIED:20251217T205511Z
UID:1222-1771588800-1771592400@nccare360.org
SUMMARY:NCCARE360 Monthly Information Session – February 2026
DESCRIPTION:Join us to learn more about NCCARE360\, see a demonstration of the platform\, and have your questions answered! This session is recommended for organizations\, agencies\, and more that are not currently an NCCARE360 network partner but may be interested in becoming one.  \n**Registration is Required** \nFriday\, February 20\, 2026\n12:00-1:00 PM\nClick Here to Register \nQuestions? Contact us at connect@nccare360.org\nInformation sessions are held on the third Friday of each month from 12-1 pm via Zoom
URL:https://nccare360.org/event/nccare360-monthly-information-session-february-2026/
LOCATION:Virtual
END:VEVENT
BEGIN:VEVENT
DTSTART;TZID=UTC:20251121T120000
DTEND;TZID=UTC:20251121T130000
DTSTAMP:20260422T194627
CREATED:20241125T154114Z
LAST-MODIFIED:20241125T154114Z
UID:651-1763726400-1763730000@nccare360.org
SUMMARY:NCCARE360 Monthly Information Session – November 2025
DESCRIPTION:Join us to learn more about NCCARE360\, see a demonstration of the platform\, and have your questions answered! This session is recommended for organizations\, agencies\, and more that are not currently an NCCARE360 network partner but may be interested in becoming one.  \n**Registration is Required** \nFriday\, November 21\, 2025\n12:00-1:00 PM\nClick Here to Register \nQuestions? Contact us at connect@nccare360.org\nInformation sessions are held on the third Friday of each month from 12-1 pm via Zoom
URL:https://nccare360.org/event/nccare360-monthly-information-session-november-2025/
LOCATION:Virtual
END:VEVENT
BEGIN:VEVENT
DTSTART;TZID=UTC:20251017T120000
DTEND;TZID=UTC:20251017T130000
DTSTAMP:20260422T194627
CREATED:20241125T154028Z
LAST-MODIFIED:20241125T154028Z
UID:649-1760702400-1760706000@nccare360.org
SUMMARY:NCCARE360 Monthly Information Session – October 2025
DESCRIPTION:Join us to learn more about NCCARE360\, see a demonstration of the platform\, and have your questions answered! This session is recommended for organizations\, agencies\, and more that are not currently an NCCARE360 network partner but may be interested in becoming one.  \n**Registration is Required** \nFriday\, October 17\, 2025\n12:00-1:00 PM\nClick Here to Register \nQuestions? Contact us at connect@nccare360.org\nInformation sessions are held on the third Friday of each month from 12-1 pm via Zoom
URL:https://nccare360.org/event/nccare360-monthly-information-session-october-2025/
LOCATION:Virtual
END:VEVENT
BEGIN:VEVENT
DTSTART;TZID=UTC:20250919T120000
DTEND;TZID=UTC:20250919T130000
DTSTAMP:20260422T194627
CREATED:20241125T153936Z
LAST-MODIFIED:20241125T153936Z
UID:647-1758283200-1758286800@nccare360.org
SUMMARY:NCCARE360 Monthly Information Session – September 2025
DESCRIPTION:Join us to learn more about NCCARE360\, see a demonstration of the platform\, and have your questions answered! This session is recommended for organizations\, agencies\, and more that are not currently an NCCARE360 network partner but may be interested in becoming one.  \n**Registration is Required** \nFriday\, September 19\, 2025\n12:00-1:00 PM\nClick Here to Register \nQuestions? Contact us at connect@nccare360.org\nInformation sessions are held on the third Friday of each month from 12-1 pm via Zoom
URL:https://nccare360.org/event/nccare360-monthly-information-session-september-2025/
LOCATION:Virtual
END:VEVENT
BEGIN:VEVENT
DTSTART;TZID=UTC:20250815T120000
DTEND;TZID=UTC:20250815T130000
DTSTAMP:20260422T194627
CREATED:20241125T153843Z
LAST-MODIFIED:20241125T153843Z
UID:645-1755259200-1755262800@nccare360.org
SUMMARY:NCCARE360 Monthly Information Session – August 2025
DESCRIPTION:Join us to learn more about NCCARE360\, see a demonstration of the platform\, and have your questions answered! This session is recommended for organizations\, agencies\, and more that are not currently an NCCARE360 network partner but may be interested in becoming one.  \n**Registration is Required** \nFriday\, August 15\, 2025\n12:00-1:00 PM\nClick Here to Register \nQuestions? Contact us at connect@nccare360.org\nInformation sessions are held on the third Friday of each month from 12-1 pm via Zoom
URL:https://nccare360.org/event/nccare360-monthly-information-session-august-2025/
LOCATION:Virtual
END:VEVENT
BEGIN:VEVENT
DTSTART;TZID=UTC:20250718T120000
DTEND;TZID=UTC:20250718T130000
DTSTAMP:20260422T194627
CREATED:20241125T153749Z
LAST-MODIFIED:20241125T153749Z
UID:643-1752840000-1752843600@nccare360.org
SUMMARY:NCCARE360 Monthly Information Session – July 2025
DESCRIPTION:Join us to learn more about NCCARE360\, see a demonstration of the platform\, and have your questions answered! This session is recommended for organizations\, agencies\, and more that are not currently an NCCARE360 network partner but may be interested in becoming one.  \n**Registration is Required** \nFriday\, July 18\, 2025\n12:00-1:00 PM\nClick Here to Register \nQuestions? Contact us at connect@nccare360.org\nInformation sessions are held on the third Friday of each month from 12-1 pm via Zoom
URL:https://nccare360.org/event/nccare360-monthly-information-session-july-2025/
LOCATION:Virtual
END:VEVENT
BEGIN:VEVENT
DTSTART;TZID=UTC:20250620T120000
DTEND;TZID=UTC:20250620T130000
DTSTAMP:20260422T194627
CREATED:20241125T153652Z
LAST-MODIFIED:20241125T153652Z
UID:641-1750420800-1750424400@nccare360.org
SUMMARY:NCCARE360 Monthly Information Session – June 2025
DESCRIPTION:Join us to learn more about NCCARE360\, see a demonstration of the platform\, and have your questions answered! This session is recommended for organizations\, agencies\, and more that are not currently an NCCARE360 network partner but may be interested in becoming one.  \n**Registration is Required** \nFriday\, June 20\, 2025\n12:00-1:00 PM\nClick Here to Register \nQuestions? Contact us at connect@nccare360.org\nInformation sessions are held on the third Friday of each month from 12-1 pm via Zoom
URL:https://nccare360.org/event/nccare360-monthly-information-session-june-2025/
LOCATION:Virtual
END:VEVENT
BEGIN:VEVENT
DTSTART;TZID=UTC:20250516T120000
DTEND;TZID=UTC:20250516T130000
DTSTAMP:20260422T194627
CREATED:20241125T153601Z
LAST-MODIFIED:20241125T153601Z
UID:639-1747396800-1747400400@nccare360.org
SUMMARY:NCCARE360 Monthly Information Session – May 2025
DESCRIPTION:Join us to learn more about NCCARE360\, see a demonstration of the platform\, and have your questions answered! This session is recommended for organizations\, agencies\, and more that are not currently an NCCARE360 network partner but may be interested in becoming one.  \n**Registration is Required** \nFriday\, May 16\, 2025\n12:00-1:00 PM\nClick Here to Register \nQuestions? Contact us at connect@nccare360.org\nInformation sessions are held on the third Friday of each month from 12-1 pm via Zoom
URL:https://nccare360.org/event/nccare360-monthly-information-session-may-2025/
LOCATION:Virtual
END:VEVENT
BEGIN:VEVENT
DTSTART;TZID=UTC:20250418T120000
DTEND;TZID=UTC:20250418T130000
DTSTAMP:20260422T194627
CREATED:20241125T153323Z
LAST-MODIFIED:20241125T153323Z
UID:637-1744977600-1744981200@nccare360.org
SUMMARY:NCCARE360 Monthly Information Session – April 2025
DESCRIPTION:Join us to learn more about NCCARE360\, see a demonstration of the platform\, and have your questions answered! This session is recommended for organizations\, agencies\, and more that are not currently an NCCARE360 network partner but may be interested in becoming one.  \n**Registration is Required** \n Friday\, April 18\, 2024\n12:00-1:00 PM\nClick Here to Register \nQuestions? Contact us at connect@nccare360.org\nInformation sessions are held on the third Friday of each month from 12-1 pm via Zoom
URL:https://nccare360.org/event/nccare360-monthly-information-session-april-2025/
LOCATION:Virtual
END:VEVENT
BEGIN:VEVENT
DTSTART;TZID=UTC:20250409T083000
DTEND;TZID=UTC:20250409T103000
DTSTAMP:20260422T194627
CREATED:20250324T195458Z
LAST-MODIFIED:20250324T200811Z
UID:1020-1744187400-1744194600@nccare360.org
SUMMARY:LiveWell Catawba Coalition Meeting
DESCRIPTION:Are you interested in learning more about NCCARE360 and how it can support community health in Catawba County? This meeting will focus on community collaboration and tools we can use to address drivers of health. It’s a great opportunity to connect with local partners\, explore how NCCARE360 can enhance care coordination\, and strengthen our collective impact. Don’t miss this chance to engage with other community leaders and learn how NCCARE360 is helping to improve health outcomes across the county. We hope to see you there!
URL:https://nccare360.org/event/livewell-catawba-coalition-meeting/
LOCATION:In Person\, 1980 Startown Rd\, Hickory\, 28602\, United States
END:VEVENT
BEGIN:VEVENT
DTSTART;TZID=UTC:20250321T120000
DTEND;TZID=UTC:20250321T130000
DTSTAMP:20260422T194627
CREATED:20241125T153210Z
LAST-MODIFIED:20241125T153210Z
UID:635-1742558400-1742562000@nccare360.org
SUMMARY:NCCARE360 Monthly Information Session – March 2025
DESCRIPTION:Join us to learn more about NCCARE360\, see a demonstration of the platform\, and have your questions answered! This session is recommended for organizations\, agencies\, and more that are not currently an NCCARE360 network partner but may be interested in becoming one.  \n**Registration is Required** \n Friday\, March 21\, 2025\n12:00-1:00 PM\nClick Here to Register \nQuestions? Contact us at connect@nccare360.org\nInformation sessions are held on the third Friday of each month from 12-1 pm via Zoom
URL:https://nccare360.org/event/nccare360-monthly-information-session-march-2025/
LOCATION:Virtual
END:VEVENT
BEGIN:VEVENT
DTSTART;TZID=UTC:20250221T120000
DTEND;TZID=UTC:20250221T130000
DTSTAMP:20260422T194627
CREATED:20241125T152729Z
LAST-MODIFIED:20241125T152729Z
UID:633-1740139200-1740142800@nccare360.org
SUMMARY:NCCARE360 Monthly Information Session – February 2025
DESCRIPTION:Join us to learn more about NCCARE360\, see a demonstration of the platform\, and have your questions answered! This session is recommended for organizations\, agencies\, and more that are not currently an NCCARE360 network partner but may be interested in becoming one.  \n**Registration is Required** \nFriday\, February 21\, 2025\n12:00-1:00 PM\nClick Here to Register \nQuestions? Contact us at connect@nccare360.org\nInformation sessions are held on the third Friday of each month from 12-1 pm via Zoom
URL:https://nccare360.org/event/nccare360-monthly-information-session-february-2025/
LOCATION:Virtual
END:VEVENT
BEGIN:VEVENT
DTSTART;TZID=UTC:20250117T120000
DTEND;TZID=UTC:20250117T130000
DTSTAMP:20260422T194627
CREATED:20241125T152434Z
LAST-MODIFIED:20241125T152434Z
UID:630-1737115200-1737118800@nccare360.org
SUMMARY:NCCARE360 Monthly Information Session - January 2025
DESCRIPTION:Join us to learn more about NCCARE360\, see a demonstration of the platform\, and have your questions answered! This session is recommended for organizations\, agencies\, and more that are not currently an NCCARE360 network partner but may be interested in becoming one.  \n**Registration is Required** \nFriday\, January 17\, 2025\n12:00-1:00 PM\nClick Here to Register \nQuestions? Contact us at connect@nccare360.org\nInformation sessions are held on the third Friday of each month from 12-1 pm via Zoom
URL:https://nccare360.org/event/nccare360-monthly-information-session-january-2025/
LOCATION:Virtual
END:VEVENT
BEGIN:VEVENT
DTSTART;TZID=UTC:20241115T120000
DTEND;TZID=UTC:20241115T130000
DTSTAMP:20260422T194627
CREATED:20240517T195735Z
LAST-MODIFIED:20240517T203143Z
UID:473-1731672000-1731675600@nccare360.org
SUMMARY:NCCARE360 Monthly General Information Session - November 2024
DESCRIPTION:Join us to learn more about NCCARE360\, see a demonstration of the platform\, and have your questions answered! This session is recommended for organizations\, agencies\, and more that are not currently an NCCARE360 network partner but may be interested in becoming one.  \n**Registration is Required** \n Friday\, November 15\, 2024\n12:00-1:00 PM\nClick Here to Register\n\nQuestions? Contact us at connect@nccare360.org\nInformation sessions are held on the third Friday of each month from 12-1 pm via Zoom
URL:https://nccare360.org/event/nccare360-monthly-general-information-session-november-2024/
LOCATION:Virtual
END:VEVENT
BEGIN:VEVENT
DTSTART;TZID=UTC:20241018T120000
DTEND;TZID=UTC:20241018T130000
DTSTAMP:20260422T194627
CREATED:20240517T195631Z
LAST-MODIFIED:20240517T203214Z
UID:471-1729252800-1729256400@nccare360.org
SUMMARY:NCCARE360 Monthly General Information Session - October 2024
DESCRIPTION:Join us to learn more about NCCARE360\, see a demonstration of the platform\, and have your questions answered! This session is recommended for organizations\, agencies\, and more that are not currently an NCCARE360 network partner but may be interested in becoming one.  \n**Registration is Required** \n Friday\, October 18\, 2024\n12:00-1:00 PM\nClick Here to Register\n\nQuestions? Contact us at connect@nccare360.org\nInformation sessions are held on the third Friday of each month from 12-1 pm via Zoom
URL:https://nccare360.org/event/nccare360-monthly-general-information-session-october-2024/
LOCATION:Virtual
END:VEVENT
BEGIN:VEVENT
DTSTART;TZID=UTC:20241011T100000
DTEND;TZID=UTC:20241011T160000
DTSTAMP:20260422T194627
CREATED:20240911T193419Z
LAST-MODIFIED:20240911T193419Z
UID:574-1728640800-1728662400@nccare360.org
SUMMARY:NCCARE360 Triad Regional Summit
DESCRIPTION:Join us to review Triad community needs data\, receive platform training\, and engage in peer discussion about common challenges\, potential solutions\, and significant benefits to collaboration around utilization of the NCCARE360 platform./Únase a nosotros para revisar los datos de necesidades de la comunidad Triad\, recibir capacitación sobre la plataforma y participar en discusiones entre pares sobre desafíos comunes\, posibles soluciones y beneficios significativos de la colaboración en torno a la utilización de la plataforma NCCARE360. \nSpanish language interpretation will be available for the entire event! A light breakfast and boxed lunch will be provided./¡La interpretación del idioma español estará disponible durante todo el evento!\nSe ofrecerá un desayuno ligero y almuerzo en caja. \nClick HERE to register/Haga clic aquí para registrarse: https://w1yg4il2sap.typeform.com/to/JhlBRJY9 \n 
URL:https://nccare360.org/event/nccare360-triad-regional-summit/
LOCATION:124 East Gate City Blvd. Greensboro\, NC 27406\, 124 East Gate City Blvd\, Greensboro\, NC\, 27406\, United States
END:VEVENT
BEGIN:VEVENT
DTSTART;TZID=UTC:20240920T120000
DTEND;TZID=UTC:20240920T130000
DTSTAMP:20260422T194627
CREATED:20240517T195535Z
LAST-MODIFIED:20240517T203248Z
UID:469-1726833600-1726837200@nccare360.org
SUMMARY:NCCARE360 Monthly General Information Session - September 2024
DESCRIPTION:Join us to learn more about NCCARE360\, see a demonstration of the platform\, and have your questions answered! This session is recommended for organizations\, agencies\, and more that are not currently an NCCARE360 network partner but may be interested in becoming one.  \n**Registration is Required** \n Friday\, September 20\, 2024\n12:00-1:00 PM\nClick Here to Register\n\nQuestions? Contact us at connect@nccare360.org\nInformation sessions are held on the third Friday of each month from 12-1 pm via Zoom
URL:https://nccare360.org/event/nccare360-monthly-general-information-session-september-2024/
LOCATION:Virtual
END:VEVENT
BEGIN:VEVENT
DTSTART;TZID=UTC:20240816T120000
DTEND;TZID=UTC:20240816T130000
DTSTAMP:20260422T194627
CREATED:20240517T195418Z
LAST-MODIFIED:20240517T203301Z
UID:467-1723809600-1723813200@nccare360.org
SUMMARY:NCCARE360 Monthly General Information Session - August 2024
DESCRIPTION:Join us to learn more about NCCARE360\, see a demonstration of the platform\, and have your questions answered! This session is recommended for organizations\, agencies\, and more that are not currently an NCCARE360 network partner but may be interested in becoming one.  \n**Registration is Required** \n Friday\, August 16\, 2024\n12:00-1:00 PM\nClick Here to Register\n\nQuestions? Contact us at connect@nccare360.org\nInformation sessions are held on the third Friday of each month from 12-1 pm via Zoom
URL:https://nccare360.org/event/nccare360-monthly-general-information-session-august-2024/
LOCATION:Virtual
END:VEVENT
BEGIN:VEVENT
DTSTART;TZID=UTC:20240806T080000
DTEND;TZID=UTC:20240806T170000
DTSTAMP:20260422T194627
CREATED:20240709T192132Z
LAST-MODIFIED:20240709T192132Z
UID:541-1722931200-1722963600@nccare360.org
SUMMARY:CISNC Impact Conference 2024: Grow Together\, Shine Forever
DESCRIPTION:NCCARE360 will be presenting at the 2024 Communities in Schools NC (CISNC) Impact Conference: Grow Together\, Shine Forever on Tuesday\, August 6\, 2024 at 3:30 pm. \nThe conference is being held August 6-7\, 2024\, at the Harris Conference Center in Charlotte\, NC\n3216 CPCC Harris Campus Drive\, Charlotte\, NC 28208
URL:https://nccare360.org/event/cisnc-impact-conference-2024-grow-together-shine-forever/
END:VEVENT
BEGIN:VEVENT
DTSTART;TZID=UTC:20240719T120000
DTEND;TZID=UTC:20240719T130000
DTSTAMP:20260422T194627
CREATED:20240517T195302Z
LAST-MODIFIED:20240517T203316Z
UID:465-1721390400-1721394000@nccare360.org
SUMMARY:NCCARE360 Monthly General Information Session - July 2024
DESCRIPTION:Join us to learn more about NCCARE360\, see a demonstration of the platform\, and have your questions answered! This session is recommended for organizations\, agencies\, and more that are not currently an NCCARE360 network partner but may be interested in becoming one.  \n**Registration is Required** \n Friday\, July 19\, 2024\n12:00-1:00 PM\nClick Here to Register\n\nQuestions? Contact us at connect@nccare360.org\nInformation sessions are held on the third Friday of each month from 12-1 pm via Zoom
URL:https://nccare360.org/event/nccare360-monthly-general-information-session-july-2024/
LOCATION:Virtual
END:VEVENT
BEGIN:VEVENT
DTSTART;TZID=UTC:20240621T120000
DTEND;TZID=UTC:20240621T130000
DTSTAMP:20260422T194627
CREATED:20240517T194930Z
LAST-MODIFIED:20240517T203412Z
UID:463-1718971200-1718974800@nccare360.org
SUMMARY:NCCARE360 Monthly General Information Session - June 2024
DESCRIPTION:Join us to learn more about NCCARE360\, see a demonstration of the platform\, and have your questions answered! This session is recommended for organizations\, agencies\, and more that are not currently an NCCARE360 network partner but may be interested in becoming one.  \n**Registration is Required** \n Friday\, June 21\, 2024\n12:00-1:00 PM\nClick Here to Register\n\nQuestions? Contact us at connect@nccare360.org\nInformation sessions are held on the third Friday of each month from 12-1 pm via Zoom
URL:https://nccare360.org/event/nccare360-monthly-general-information-session-june-2024/
LOCATION:Virtual
END:VEVENT
BEGIN:VEVENT
DTSTART;TZID=UTC:20240517T120000
DTEND;TZID=UTC:20240517T130000
DTSTAMP:20260422T194627
CREATED:20240517T193034Z
LAST-MODIFIED:20240517T203425Z
UID:459-1715947200-1715950800@nccare360.org
SUMMARY:NCCARE360 Monthly General Information Session - May 2024
DESCRIPTION:Join us to learn more about NCCARE360\, see a demonstration of the platform\, and have your questions answered! This session is recommended for organizations\, agencies\, and more that are not currently an NCCARE360 network partner but may be interested in becoming one.  \n**Registration is Required** \n Friday\, May 17\, 2024\n12:00-1:00 PM\nClick Here to Register\n\nQuestions? Contact us at connect@nccare360.org\nInformation sessions are held on the third Friday of each month from 12-1 pm via Zoom
URL:https://nccare360.org/event/nccare360-monthly-general-information-session-may-2024/
LOCATION:Virtual
END:VEVENT
END:VCALENDAR